BEGIN:VCALENDAR
VERSION:2.0
PRODID:-//CommodityThursdays - ECPv6.10.2//NONSGML v1.0//EN
CALSCALE:GREGORIAN
METHOD:PUBLISH
X-ORIGINAL-URL:https://commoditythursdays.com
X-WR-CALDESC:Events for CommodityThursdays
REFRESH-INTERVAL;VALUE=DURATION:PT1H
X-Robots-Tag:noindex
X-PUBLISHED-TTL:PT1H
BEGIN:VTIMEZONE
TZID:UTC
BEGIN:STANDARD
TZOFFSETFROM:+0000
TZOFFSETTO:+0000
TZNAME:UTC
DTSTART:20260101T000000
END:STANDARD
END:VTIMEZONE
BEGIN:VTIMEZONE
TZID:Europe/Paris
BEGIN:DAYLIGHT
TZOFFSETFROM:+0100
TZOFFSETTO:+0200
TZNAME:CEST
DTSTART:20260329T010000
END:DAYLIGHT
BEGIN:STANDARD
TZOFFSETFROM:+0200
TZOFFSETTO:+0100
TZNAME:CET
DTSTART:20261025T010000
END:STANDARD
END:VTIMEZONE
BEGIN:VEVENT
DTSTART;TZID=UTC:20260430T123000
DTEND;TZID=UTC:20260430T140000
DTSTAMP:20260424T125450
CREATED:20260422T074825Z
LAST-MODIFIED:20260422T074825Z
UID:12586-1777552200-1777557600@commoditythursdays.com
SUMMARY:Coffe & Cocoa
DESCRIPTION:Join us for the 3rd edition of our Coffee & Cocoa Roundtable\, an exclusive lunch for professionals in the sector. This intimate event brings together peers from trading and shipping to connect\, share insights\, and exchange ideas in an informal setting. \n📅 Thursday\, 30 April | 12:30 – 14:00\n📍 Mère Royaume\, Geneva\n💰 Early bird: CHF 40 | Regular rate: CHF 50 – starter + includes menu du jour\n👥 For professionals from coffee and cocoa trading and shipping companies only \nSpaces are limited – secure your spot today!
URL:https://commoditythursdays.com/our-event/coffe-cocoa/
LOCATION:La Mère Royaume\, Geneva\, Place Simon-Goulard 4\, Geneva\, 1201\, Switzerland
CATEGORIES:Calendar,Commodity Thursdays
ATTACH;FMTTYPE=image/png:https://commoditythursdays.com/wp-content/uploads/2026/04/THE-ROUNDTABLE-COFFEE-COCOA-3-1.png
END:VEVENT
BEGIN:VEVENT
DTSTART;TZID=Europe/Paris:20260430T180000
DTEND;TZID=Europe/Paris:20260430T220000
DTSTAMP:20260424T125450
CREATED:20251229T170343Z
LAST-MODIFIED:20251229T172723Z
UID:12312-1777572000-1777586400@commoditythursdays.com
SUMMARY:CommodityThursdays Zurich – Networking drinks
DESCRIPTION:CommodityThursdays Zurich is the go-to networking event for professionals in the shipping and commodities trading world. 🥂 \nJoin us for a fun and casual evening of networking\, where you can meet peers\, spark meaningful connections\, and discover new opportunities within the community. \nEvent Details: \n📅 Thursday\, 30 April | ⏰ 18:00 – 21:00 \nPlease note: this is a buy-your-own-drinks event. More details coming soon. \nRSVP now\nSpaces are limited to ensure meaningful conversations. Places are subject to approval\, and we will confirm your spot shortly via email. \nWe can’t wait to welcome you for a night of conversation\, connections\, and a little fun! 🤝🌟
URL:https://commoditythursdays.com/our-event/commoditythursdays-zurich-networking-drinks-3/
LOCATION:Zurich\, Switzerland\, Zurich\, Switzerland
CATEGORIES:Calendar,Commodity Thursdays,Industry Event
ATTACH;FMTTYPE=image/png:https://commoditythursdays.com/wp-content/uploads/2025/12/Zurich-April-2026-1.png
END:VEVENT
END:VCALENDAR