BEGIN:VCALENDAR
VERSION:2.0
PRODID:-//CommodityThursdays - ECPv6.10.2//NONSGML v1.0//EN
CALSCALE:GREGORIAN
METHOD:PUBLISH
X-ORIGINAL-URL:https://commoditythursdays.com
X-WR-CALDESC:Events for CommodityThursdays
REFRESH-INTERVAL;VALUE=DURATION:PT1H
X-Robots-Tag:noindex
X-PUBLISHED-TTL:PT1H
BEGIN:VTIMEZONE
TZID:UTC
BEGIN:STANDARD
TZOFFSETFROM:+0000
TZOFFSETTO:+0000
TZNAME:UTC
DTSTART:20240101T000000
END:STANDARD
END:VTIMEZONE
BEGIN:VTIMEZONE
TZID:Asia/Shanghai
BEGIN:STANDARD
TZOFFSETFROM:+0800
TZOFFSETTO:+0800
TZNAME:CST
DTSTART:20250101T000000
END:STANDARD
END:VTIMEZONE
BEGIN:VTIMEZONE
TZID:Asia/Dubai
BEGIN:STANDARD
TZOFFSETFROM:+0400
TZOFFSETTO:+0400
TZNAME:+04
DTSTART:20250101T000000
END:STANDARD
END:VTIMEZONE
BEGIN:VTIMEZONE
TZID:Europe/Paris
BEGIN:DAYLIGHT
TZOFFSETFROM:+0100
TZOFFSETTO:+0200
TZNAME:CEST
DTSTART:20250330T010000
END:DAYLIGHT
BEGIN:STANDARD
TZOFFSETFROM:+0200
TZOFFSETTO:+0100
TZNAME:CET
DTSTART:20251026T010000
END:STANDARD
END:VTIMEZONE
BEGIN:VTIMEZONE
TZID:America/New_York
BEGIN:DAYLIGHT
TZOFFSETFROM:-0500
TZOFFSETTO:-0400
TZNAME:EDT
DTSTART:20240310T070000
END:DAYLIGHT
BEGIN:STANDARD
TZOFFSETFROM:-0400
TZOFFSETTO:-0500
TZNAME:EST
DTSTART:20241103T060000
END:STANDARD
END:VTIMEZONE
BEGIN:VEVENT
DTSTART;TZID=UTC:20260122T123000
DTEND;TZID=UTC:20260122T143000
DTSTAMP:20260424T143227
CREATED:20251229T111353Z
LAST-MODIFIED:20251229T164203Z
UID:12184-1769085000-1769092200@commoditythursdays.com
SUMMARY:The Roundtable : Copper\, China and Critical Minerals
DESCRIPTION:The Roundtable is CommodityThursdays new lunch series\, offering an intimate setting for professionals to exchange ideas and insights. Each edition focuses on a key theme within the commodities industry. \nThe first London session will explore Copper\, China and Critical Minerals\, with a timely discussion on markets\, supply and the forces shaping the future of the sector. \nDan Smith from Commodity Market Analytics will share his expertise\, moderated by Andrew Home from Thomson Reuters\, creating a valuable opportunity to gain insights and connect with industry peers. \nRSVP now
URL:https://commoditythursdays.com/our-event/the-roundtable-copper-china-and-critical-minerals/
LOCATION:The Jones Family Kitchen\, 7-8 Eccleston Yards\, London\, SW1W 9AZ\, United Kingdom
CATEGORIES:Calendar,Commodity Thursdays,Industry Event
ATTACH;FMTTYPE=image/png:https://commoditythursdays.com/wp-content/uploads/2025/12/THE-ROUNDTABLE-Copper-China-and-Critical-Minerals.png
END:VEVENT
BEGIN:VEVENT
DTSTART;TZID=UTC:20251106T180000
DTEND;TZID=UTC:20251106T210000
DTSTAMP:20260424T143227
CREATED:20241219T163334Z
LAST-MODIFIED:20241219T163334Z
UID:3431-1762452000-1762462800@commoditythursdays.com
SUMMARY:CommodityThursdays Geneva - November
DESCRIPTION:🚢 CommodityThursdays are regular networking drinks in the shipping and commodity trading sector. They are open to all and free of charge (buy your own drinks). 🥂 Feel free to bring some friends and colleagues. We count on you and look forward to welcoming you there! 🤝🌟
URL:https://commoditythursdays.com/our-event/commoditythursdays-geneva-november/
CATEGORIES:Calendar,Commodity Thursdays
ATTACH;FMTTYPE=image/png:https://commoditythursdays.com/wp-content/uploads/2024/12/Geneva-Sept-6.png
END:VEVENT
BEGIN:VEVENT
DTSTART;TZID=Asia/Shanghai:20251023T190000
DTEND;TZID=Asia/Shanghai:20251023T220000
DTSTAMP:20260424T143227
CREATED:20241219T155515Z
LAST-MODIFIED:20241219T155515Z
UID:3410-1761246000-1761256800@commoditythursdays.com
SUMMARY:CommodityThursdays Singapore - October
DESCRIPTION:🚢 CommodityThursdays are regular networking drinks in the shipping and commodities trading sector. They are open to all and free of charge\, with a first round of complimentary drinks waiting for you. 🥂 Feel free to bring some friends and colleagues. We count on you and look forward to welcoming you there! 🤝🌟
URL:https://commoditythursdays.com/our-event/commoditythursdays-singapore-october/
LOCATION:Lion Brewery Co
CATEGORIES:Commodity Thursdays
ATTACH;FMTTYPE=image/png:https://commoditythursdays.com/wp-content/uploads/2024/12/Singapore-Aug-3.png
END:VEVENT
BEGIN:VEVENT
DTSTART;TZID=Asia/Dubai:20251002T190000
DTEND;TZID=Asia/Dubai:20251002T220000
DTSTAMP:20260424T143227
CREATED:20241219T165751Z
LAST-MODIFIED:20241219T171102Z
UID:3462-1759431600-1759442400@commoditythursdays.com
SUMMARY:CommodityThursdays Dubai - October
DESCRIPTION:
URL:https://commoditythursdays.com/our-event/commoditythursdays-dubai-october/
LOCATION:SO/ Uptown Dubai\,  Uptown Tower\, United Arab Emirates
CATEGORIES:Commodity Thursdays
ATTACH;FMTTYPE=image/png:https://commoditythursdays.com/wp-content/uploads/2024/12/28-1.png
END:VEVENT
BEGIN:VEVENT
DTSTART;TZID=UTC:20250918T180000
DTEND;TZID=UTC:20250918T210000
DTSTAMP:20260424T143227
CREATED:20241219T163221Z
LAST-MODIFIED:20241219T163343Z
UID:3426-1758218400-1758229200@commoditythursdays.com
SUMMARY:CommodityThursdays Geneva - September
DESCRIPTION:🚢 CommodityThursdays are regular networking drinks in the shipping and commodity trading sector. They are open to all and free of charge (buy your own drinks). 🥂 Feel free to bring some friends and colleagues. We count on you and look forward to welcoming you there! 🤝🌟
URL:https://commoditythursdays.com/our-event/commoditythursdays-geneva-september-2/
CATEGORIES:Calendar,Commodity Thursdays
ATTACH;FMTTYPE=image/png:https://commoditythursdays.com/wp-content/uploads/2024/12/Geneva-Sept-5.png
END:VEVENT
BEGIN:VEVENT
DTSTART;TZID=UTC:20250911T180000
DTEND;TZID=UTC:20250911T210000
DTSTAMP:20260424T143227
CREATED:20241219T170857Z
LAST-MODIFIED:20241219T170857Z
UID:3477-1757613600-1757624400@commoditythursdays.com
SUMMARY:CommodityThursdays Rotterdam - September
DESCRIPTION:🚢 CommodityThursdays are regular networking drinks in the shipping and commodities trading sector. They are open to all and free of charge (buy your own drinks). 🥂 Feel free to bring some friends and colleagues. We count on you and look forward to welcoming you there! 🤝🌟
URL:https://commoditythursdays.com/our-event/commoditythursdays-rotterdam-september/
CATEGORIES:Commodity Thursdays
ATTACH;FMTTYPE=image/png:https://commoditythursdays.com/wp-content/uploads/2024/12/Rotterdam-Feb-4.png
END:VEVENT
BEGIN:VEVENT
DTSTART;TZID=UTC:20250911T180000
DTEND;TZID=UTC:20250911T210000
DTSTAMP:20260424T143227
CREATED:20241219T164520Z
LAST-MODIFIED:20241219T164520Z
UID:3444-1757613600-1757624400@commoditythursdays.com
SUMMARY:CommodityThursdays London - September
DESCRIPTION:🚢 CommodityThursdays are regular networking drinks in the shipping and commodity trading sector. They are open to all and free of charge (buy your own drinks). 🥂 Feel free to bring some friends and colleagues. We count on you and look forward to welcoming you there! 🤝🌟
URL:https://commoditythursdays.com/our-event/commoditythursdays-london-september/
LOCATION:Circe’s Rooftop Waterloo\, 117 Waterloo Rd\, SE1 8UL\, London\, United Kingdom
CATEGORIES:Commodity Thursdays
ATTACH;FMTTYPE=image/png:https://commoditythursdays.com/wp-content/uploads/2024/12/London-Sept-4.png
END:VEVENT
BEGIN:VEVENT
DTSTART;TZID=UTC:20250710T180000
DTEND;TZID=UTC:20250710T210000
DTSTAMP:20260424T143227
CREATED:20241219T170748Z
LAST-MODIFIED:20241219T170748Z
UID:3475-1752170400-1752181200@commoditythursdays.com
SUMMARY:CommodityThursdays Rotterdam - July
DESCRIPTION:🚢 CommodityThursdays are regular networking drinks in the shipping and commodities trading sector. They are open to all and free of charge (buy your own drinks). 🥂 Feel free to bring some friends and colleagues. We count on you and look forward to welcoming you there! 🤝🌟
URL:https://commoditythursdays.com/our-event/commoditythursdays-rotterdam-july/
CATEGORIES:Commodity Thursdays
ATTACH;FMTTYPE=image/png:https://commoditythursdays.com/wp-content/uploads/2024/12/Rotterdam-Feb-3.png
END:VEVENT
BEGIN:VEVENT
DTSTART;TZID=UTC:20250626T180000
DTEND;TZID=UTC:20250626T210000
DTSTAMP:20260424T143227
CREATED:20241219T163056Z
LAST-MODIFIED:20241219T163357Z
UID:3424-1750960800-1750971600@commoditythursdays.com
SUMMARY:CommodityThursdays Geneva - June
DESCRIPTION:🚢 CommodityThursdays are regular networking drinks in the shipping and commodity trading sector. They are open to all and free of charge (buy your own drinks). 🥂 Feel free to bring some friends and colleagues. We count on you and look forward to welcoming you there! 🤝🌟
URL:https://commoditythursdays.com/our-event/commoditythursdays-geneva-june/
CATEGORIES:Calendar,Commodity Thursdays
ATTACH;FMTTYPE=image/png:https://commoditythursdays.com/wp-content/uploads/2024/12/Geneva-Sept-3.png
END:VEVENT
BEGIN:VEVENT
DTSTART;TZID=Asia/Dubai:20250612T190000
DTEND;TZID=Asia/Dubai:20250612T220000
DTSTAMP:20260424T143227
CREATED:20241219T171050Z
LAST-MODIFIED:20241219T171050Z
UID:3464-1749754800-1749765600@commoditythursdays.com
SUMMARY:CommodityThursdays Dubai - June
DESCRIPTION:
URL:https://commoditythursdays.com/our-event/commoditythursdays-dubai-june-2/
LOCATION:SO/ Uptown Dubai\,  Uptown Tower\, United Arab Emirates
CATEGORIES:Commodity Thursdays
ATTACH;FMTTYPE=image/png:https://commoditythursdays.com/wp-content/uploads/2024/12/26-1.png
END:VEVENT
BEGIN:VEVENT
DTSTART;TZID=Asia/Dubai:20250612T190000
DTEND;TZID=Asia/Dubai:20250612T220000
DTSTAMP:20260424T143227
CREATED:20241219T165524Z
LAST-MODIFIED:20241219T165717Z
UID:3460-1749754800-1749765600@commoditythursdays.com
SUMMARY:CommodityThursdays Dubai - June
DESCRIPTION:
URL:https://commoditythursdays.com/our-event/commoditythursdays-dubai-june/
LOCATION:SO/ Uptown Dubai\,  Uptown Tower\, United Arab Emirates
CATEGORIES:Commodity Thursdays
ATTACH;FMTTYPE=image/png:https://commoditythursdays.com/wp-content/uploads/2024/12/26.png
END:VEVENT
BEGIN:VEVENT
DTSTART;TZID=UTC:20250605T180000
DTEND;TZID=UTC:20250605T210000
DTSTAMP:20260424T143227
CREATED:20241219T164435Z
LAST-MODIFIED:20241219T164435Z
UID:3442-1749146400-1749157200@commoditythursdays.com
SUMMARY:CommodityThursdays London - June
DESCRIPTION:🚢 CommodityThursdays are regular networking drinks in the shipping and commodity trading sector. They are open to all and free of charge (buy your own drinks). 🥂 Feel free to bring some friends and colleagues. We count on you and look forward to welcoming you there! 🤝🌟
URL:https://commoditythursdays.com/our-event/commoditythursdays-london-june/
LOCATION:Circe’s Rooftop Waterloo\, 117 Waterloo Rd\, SE1 8UL\, London\, United Kingdom
CATEGORIES:Commodity Thursdays
ATTACH;FMTTYPE=image/png:https://commoditythursdays.com/wp-content/uploads/2024/12/London-Sept-3.png
END:VEVENT
BEGIN:VEVENT
DTSTART;TZID=Europe/Paris:20250522T180000
DTEND;TZID=Europe/Paris:20250522T210000
DTSTAMP:20260424T143227
CREATED:20241219T172443Z
LAST-MODIFIED:20241219T172443Z
UID:3492-1747936800-1747947600@commoditythursdays.com
SUMMARY:CommodityThursdays Paris - May
DESCRIPTION:🚢 CommodityThursdays are regular networking drinks in the shipping and commodity trading sector. They are open to all and free of charge (buy your own drinks). 🥂 Feel free to bring some friends and colleagues. We count on you and look forward to welcoming you there! 🤝🌟
URL:https://commoditythursdays.com/our-event/commoditythursdays-paris-may/
CATEGORIES:Commodity Thursdays
ATTACH;FMTTYPE=image/png:https://commoditythursdays.com/wp-content/uploads/2024/12/Paris-Oct-1.png
END:VEVENT
BEGIN:VEVENT
DTSTART;TZID=UTC:20250515T180000
DTEND;TZID=UTC:20250515T210000
DTSTAMP:20260424T143227
CREATED:20241219T170701Z
LAST-MODIFIED:20241219T170701Z
UID:3472-1747332000-1747342800@commoditythursdays.com
SUMMARY:CommodityThursdays Rotterdam - May
DESCRIPTION:🚢 CommodityThursdays are regular networking drinks in the shipping and commodities trading sector. They are open to all and free of charge (buy your own drinks). 🥂 Feel free to bring some friends and colleagues. We count on you and look forward to welcoming you there! 🤝🌟
URL:https://commoditythursdays.com/our-event/commoditythursdays-rotterdam-may/
CATEGORIES:Commodity Thursdays
ATTACH;FMTTYPE=image/png:https://commoditythursdays.com/wp-content/uploads/2024/12/Rotterdam-Feb-1.png
END:VEVENT
BEGIN:VEVENT
DTSTART;TZID=Asia/Shanghai:20250508T190000
DTEND;TZID=Asia/Shanghai:20250508T220000
DTSTAMP:20260424T143227
CREATED:20241219T154756Z
LAST-MODIFIED:20241219T154805Z
UID:3405-1746730800-1746741600@commoditythursdays.com
SUMMARY:CommodityThursdays Singapore - May
DESCRIPTION:🚢 CommodityThursdays are regular networking drinks in the shipping and commodities trading sector. They are open to all and free of charge\, with a first round of complimentary drinks waiting for you. 🥂 Feel free to bring some friends and colleagues. We count on you and look forward to welcoming you there! 🤝🌟
URL:https://commoditythursdays.com/our-event/commoditythursdays-singapore-may/
LOCATION:Lion Brewery Co
CATEGORIES:Commodity Thursdays
ATTACH;FMTTYPE=image/png:https://commoditythursdays.com/wp-content/uploads/2024/12/Singapore-Aug.png
END:VEVENT
BEGIN:VEVENT
DTSTART;TZID=Asia/Dubai:20250424T190000
DTEND;TZID=Asia/Dubai:20250424T223000
DTSTAMP:20260424T143227
CREATED:20241219T165437Z
LAST-MODIFIED:20250307T094934Z
UID:3458-1745521200-1745533800@commoditythursdays.com
SUMMARY:CommodityThursdays Dubai - April
DESCRIPTION:
URL:https://commoditythursdays.com/our-event/commoditythursdays-dubai-april/
LOCATION:SO/ Uptown Dubai\,  Uptown Tower\, United Arab Emirates
CATEGORIES:Commodity Thursdays
ATTACH;FMTTYPE=image/png:https://commoditythursdays.com/wp-content/uploads/2024/12/Dubai-April.png
END:VEVENT
BEGIN:VEVENT
DTSTART;TZID=UTC:20250424T180000
DTEND;TZID=UTC:20250424T210000
DTSTAMP:20260424T143227
CREATED:20241219T164242Z
LAST-MODIFIED:20250307T094842Z
UID:3440-1745517600-1745528400@commoditythursdays.com
SUMMARY:CommodityThursdays London - April
DESCRIPTION:🚢 CommodityThursdays are regular networking drinks in the shipping and commodity trading sector. They are open to all and free of charge (buy your own drinks). 🥂 Feel free to bring some friends and colleagues. We count on you and look forward to welcoming you there! 🤝🌟
URL:https://commoditythursdays.com/our-event/commoditythursdays-london-april/
LOCATION:Circe’s Rooftop Waterloo\, 117 Waterloo Rd\, SE1 8UL\, London\, United Kingdom
CATEGORIES:Commodity Thursdays
ATTACH;FMTTYPE=image/png:https://commoditythursdays.com/wp-content/uploads/2024/12/London-April.png
END:VEVENT
BEGIN:VEVENT
DTSTART;TZID=UTC:20250424T180000
DTEND;TZID=UTC:20250424T210000
DTSTAMP:20260424T143227
CREATED:20241219T163019Z
LAST-MODIFIED:20250307T095020Z
UID:3420-1745517600-1745528400@commoditythursdays.com
SUMMARY:CommodityThursdays Geneva - April
DESCRIPTION:🚢 CommodityThursdays are regular networking drinks in the shipping and commodity trading sector. They are open to all and free of charge (buy your own drinks). 🥂 Feel free to bring some friends and colleagues. We count on you and look forward to welcoming you there! 🤝🌟
URL:https://commoditythursdays.com/our-event/commoditythursdays-geneva-april/
CATEGORIES:Calendar,Commodity Thursdays
ATTACH;FMTTYPE=image/png:https://commoditythursdays.com/wp-content/uploads/2024/12/Geneva-April.png
END:VEVENT
BEGIN:VEVENT
DTSTART;TZID=Asia/Shanghai:20250327T190000
DTEND;TZID=Asia/Shanghai:20250327T220000
DTSTAMP:20260424T143227
CREATED:20241219T154500Z
LAST-MODIFIED:20241219T154904Z
UID:3400-1743102000-1743112800@commoditythursdays.com
SUMMARY:CommodityThursdays Singapore - March
DESCRIPTION:🚢 CommodityThursdays are regular networking drinks in the shipping and commodities trading sector. They are open to all and free of charge\, with a first round of complimentary drinks waiting for you. 🥂 Feel free to bring some friends and colleagues. We count on you and look forward to welcoming you there! 🤝🌟
URL:https://commoditythursdays.com/our-event/commoditythursdays-singapore-march/
LOCATION:Lion Brewery Co
CATEGORIES:Commodity Thursdays
ATTACH;FMTTYPE=image/png:https://commoditythursdays.com/wp-content/uploads/2024/12/Singapore-Mar-1.png
END:VEVENT
BEGIN:VEVENT
DTSTART;TZID=UTC:20250327T180000
DTEND;TZID=UTC:20250327T210000
DTSTAMP:20260424T143227
CREATED:20241219T162948Z
LAST-MODIFIED:20250307T094348Z
UID:3419-1743098400-1743109200@commoditythursdays.com
SUMMARY:CommodityThursdays Geneva - March
DESCRIPTION:🚢 CommodityThursdays are your go-to networking drinks for professionals in shipping and commodities trading. This time\, we are adding a fun twist—a special quiz night! \nJoin us at Pasta & Vino from 6 PM onwards for an evening of networking\, friendly competition\, and great company. A welcome drink is included\, and the entry fee is CHF 25. 🥂 \nFeel free to share this invite with friends and colleagues—spaces are limited! We are counting on you and cannot wait to welcome you. 🤝🌟
URL:https://commoditythursdays.com/our-event/commoditythursdays-geneva-march/
CATEGORIES:Calendar,Commodity Thursdays
ATTACH;FMTTYPE=image/png:https://commoditythursdays.com/wp-content/uploads/2024/12/Geneva-Sept-1.png
END:VEVENT
BEGIN:VEVENT
DTSTART;TZID=Asia/Shanghai:20250220T190000
DTEND;TZID=Asia/Shanghai:20250220T220000
DTSTAMP:20260424T143227
CREATED:20241219T154240Z
LAST-MODIFIED:20241219T154831Z
UID:3397-1740078000-1740088800@commoditythursdays.com
SUMMARY:CommodityThursdays Singapore - February
DESCRIPTION:🚢 CommodityThursdays are regular networking drinks in the shipping and commodities trading sector. They are open to all and free of charge\, with a first round of complimentary drinks waiting for you. 🥂 Feel free to bring some friends and colleagues. We count on you and look forward to welcoming you there! 🤝🌟
URL:https://commoditythursdays.com/our-event/commoditythursdays-singapore-february/
LOCATION:Lion Brewery Co
CATEGORIES:Commodity Thursdays
ATTACH;FMTTYPE=image/png:https://commoditythursdays.com/wp-content/uploads/2024/12/Singapore-Feb.png
END:VEVENT
BEGIN:VEVENT
DTSTART;TZID=Asia/Dubai:20250213T190000
DTEND;TZID=Asia/Dubai:20250213T220000
DTSTAMP:20260424T143227
CREATED:20241219T165328Z
LAST-MODIFIED:20250128T154652Z
UID:3448-1739473200-1739484000@commoditythursdays.com
SUMMARY:CommodityThursdays Dubai - February
DESCRIPTION:
URL:https://commoditythursdays.com/our-event/june-commoditythursdays-dubai-february/
LOCATION:SO/ Uptown Dubai\,  Uptown Tower\, United Arab Emirates
CATEGORIES:Commodity Thursdays
ATTACH;FMTTYPE=image/png:https://commoditythursdays.com/wp-content/uploads/2024/12/CommodityThursdays-VISUALS.png
END:VEVENT
BEGIN:VEVENT
DTSTART;TZID=Europe/Paris:20250206T180000
DTEND;TZID=Europe/Paris:20250206T210000
DTSTAMP:20260424T143227
CREATED:20241219T172251Z
LAST-MODIFIED:20241219T172436Z
UID:3487-1738864800-1738875600@commoditythursdays.com
SUMMARY:CommodityThursdays Paris - February
DESCRIPTION:🚢 CommodityThursdays are regular networking drinks in the shipping and commodity trading sector. They are open to all and free of charge (buy your own drinks). 🥂 Feel free to bring some friends and colleagues. We count on you and look forward to welcoming you there! 🤝🌟
URL:https://commoditythursdays.com/our-event/commoditythursdays-paris-february/
CATEGORIES:Commodity Thursdays
ATTACH;FMTTYPE=image/png:https://commoditythursdays.com/wp-content/uploads/2024/12/Paris-Oct.png
END:VEVENT
BEGIN:VEVENT
DTSTART;TZID=UTC:20250206T180000
DTEND;TZID=UTC:20250206T210000
DTSTAMP:20260424T143227
CREATED:20241219T170349Z
LAST-MODIFIED:20241219T170349Z
UID:3465-1738864800-1738875600@commoditythursdays.com
SUMMARY:CommodityThursdays Rotterdam - February
DESCRIPTION:🚢 CommodityThursdays are regular networking drinks in the shipping and commodities trading sector. They are open to all and free of charge (buy your own drinks). 🥂 Feel free to bring some friends and colleagues. We count on you and look forward to welcoming you there! 🤝🌟
URL:https://commoditythursdays.com/our-event/commoditythursdays-rotterdam-february/
CATEGORIES:Commodity Thursdays
ATTACH;FMTTYPE=image/png:https://commoditythursdays.com/wp-content/uploads/2024/12/Rotterdam-Feb.png
END:VEVENT
BEGIN:VEVENT
DTSTART;TZID=UTC:20250123T180000
DTEND;TZID=UTC:20250123T210000
DTSTAMP:20260424T143227
CREATED:20241219T164058Z
LAST-MODIFIED:20241219T164058Z
UID:3433-1737655200-1737666000@commoditythursdays.com
SUMMARY:CommodityThursdays London - January
DESCRIPTION:🚢 CommodityThursdays are regular networking drinks in the shipping and commodity trading sector. They are open to all and free of charge (buy your own drinks). 🥂 Feel free to bring some friends and colleagues. We count on you and look forward to welcoming you there! 🤝🌟
URL:https://commoditythursdays.com/our-event/commoditythursdays-london-january/
LOCATION:Circe’s Rooftop Waterloo\, 117 Waterloo Rd\, SE1 8UL\, London\, United Kingdom
CATEGORIES:Commodity Thursdays
ATTACH;FMTTYPE=image/png:https://commoditythursdays.com/wp-content/uploads/2024/12/London-Jan.png
END:VEVENT
BEGIN:VEVENT
DTSTART;TZID=UTC:20250123T180000
DTEND;TZID=UTC:20250123T210000
DTSTAMP:20260424T143227
CREATED:20241219T162806Z
LAST-MODIFIED:20241219T162806Z
UID:3414-1737655200-1737666000@commoditythursdays.com
SUMMARY:CommodityThursdays Geneva - January
DESCRIPTION:🚢 CommodityThursdays are regular networking drinks in the shipping and commodity trading sector. They are open to all and free of charge (buy your own drinks). 🥂 Feel free to bring some friends and colleagues. We count on you and look forward to welcoming you there! 🤝🌟
URL:https://commoditythursdays.com/our-event/commoditythursdays-geneva-january/
CATEGORIES:Calendar,Commodity Thursdays
ATTACH;FMTTYPE=image/png:https://commoditythursdays.com/wp-content/uploads/2024/12/Geneva-Jan.png
END:VEVENT
BEGIN:VEVENT
DTSTART;TZID=Asia/Shanghai:20250109T190000
DTEND;TZID=Asia/Shanghai:20250109T220000
DTSTAMP:20260424T143227
CREATED:20241219T153700Z
LAST-MODIFIED:20241219T154923Z
UID:3389-1736449200-1736460000@commoditythursdays.com
SUMMARY:CommodityThursdays Singapore - January
DESCRIPTION:🚢 CommodityThursdays are regular networking drinks in the shipping and commodities trading sector. They are open to all and free of charge\, with a first round of complimentary drinks waiting for you. 🥂 Feel free to bring some friends and colleagues. We count on you and look forward to welcoming you there! 🤝🌟
URL:https://commoditythursdays.com/our-event/commoditythursdays-singapore-january/
LOCATION:Lion Brewery Co
CATEGORIES:Commodity Thursdays
ATTACH;FMTTYPE=image/png:https://commoditythursdays.com/wp-content/uploads/2024/12/Singapore-Jan-1.png
END:VEVENT
BEGIN:VEVENT
DTSTART;TZID=UTC:20241205T190000
DTEND;TZID=UTC:20241205T220000
DTSTAMP:20260424T143227
CREATED:20231122T121034Z
LAST-MODIFIED:20241015T142749Z
UID:3120-1733425200-1733436000@commoditythursdays.com
SUMMARY:CommodityThursdays Singapore - December
DESCRIPTION:🚢 CommodityThursdays are regular networking drinks in the shipping and commodities trading sector. They are open to all and free of charge\, with a first round of complimentary drinks waiting for you. 🥂 Feel free to bring some friends and colleagues. We count on you and look forward to welcoming you there! 🤝🌟
URL:https://commoditythursdays.com/our-event/november-commoditythursdays-singapore/
LOCATION:Lion Brewery Co
CATEGORIES:Commodity Thursdays
ATTACH;FMTTYPE=image/png:https://commoditythursdays.com/wp-content/uploads/2023/11/Singapore-Dec-1.png
END:VEVENT
BEGIN:VEVENT
DTSTART;TZID=UTC:20241205T180000
DTEND;TZID=UTC:20241205T210000
DTSTAMP:20260424T143227
CREATED:20231122T122052Z
LAST-MODIFIED:20241015T144013Z
UID:3135-1733421600-1733432400@commoditythursdays.com
SUMMARY:CommodityThursdays Dubai - December
DESCRIPTION:🚢 CommodityThursdays are regular networking drinks in the shipping and commodity trading sector. They are open to all and free of charge (buy your own drinks). 🥂 Feel free to bring some friends and colleagues. We count on you and look forward to welcoming you there! 🤝🌟
URL:https://commoditythursdays.com/our-event/december-commoditythursdays-dubai/
LOCATION:SO/ Uptown Dubai\,  Uptown Tower\, United Arab Emirates
CATEGORIES:Commodity Thursdays
ATTACH;FMTTYPE=image/png:https://commoditythursdays.com/wp-content/uploads/2023/11/Dubai-Dec-2.png
END:VEVENT
BEGIN:VEVENT
DTSTART;TZID=America/New_York:20241128T180000
DTEND;TZID=America/New_York:20241128T220000
DTSTAMP:20260424T143227
CREATED:20240704T095046Z
LAST-MODIFIED:20241003T085140Z
UID:3260-1732816800-1732831200@commoditythursdays.com
SUMMARY:CommodityThursdays Istanbul
DESCRIPTION:🚢 CommodityThursdays are regular networking drinks in the shipping and commodities trading sector. They are open to all and free of charge\, with a first round of complimentary drinks waiting for you. 🥂 Feel free to bring some friends and colleagues. We count on you and look forward to welcoming you there! 🤝🌟
URL:https://commoditythursdays.com/our-event/commoditythursdays-istanbul/
CATEGORIES:Commodity Thursdays
ATTACH;FMTTYPE=image/png:https://commoditythursdays.com/wp-content/uploads/2023/11/Istanbul-TBC.png
END:VEVENT
END:VCALENDAR