BEGIN:VCALENDAR
VERSION:2.0
PRODID:-//CommodityThursdays - ECPv6.10.2//NONSGML v1.0//EN
CALSCALE:GREGORIAN
METHOD:PUBLISH
X-ORIGINAL-URL:https://commoditythursdays.com
X-WR-CALDESC:Events for CommodityThursdays
REFRESH-INTERVAL;VALUE=DURATION:PT1H
X-Robots-Tag:noindex
X-PUBLISHED-TTL:PT1H
BEGIN:VTIMEZONE
TZID:UTC
BEGIN:STANDARD
TZOFFSETFROM:+0000
TZOFFSETTO:+0000
TZNAME:UTC
DTSTART:20230101T000000
END:STANDARD
END:VTIMEZONE
BEGIN:VTIMEZONE
TZID:America/New_York
BEGIN:DAYLIGHT
TZOFFSETFROM:-0500
TZOFFSETTO:-0400
TZNAME:EDT
DTSTART:20240310T070000
END:DAYLIGHT
BEGIN:STANDARD
TZOFFSETFROM:-0400
TZOFFSETTO:-0500
TZNAME:EST
DTSTART:20241103T060000
END:STANDARD
END:VTIMEZONE
BEGIN:VEVENT
DTSTART;TZID=UTC:20240912T180000
DTEND;TZID=UTC:20240912T210000
DTSTAMP:20260424T174941
CREATED:20231122T115927Z
LAST-MODIFIED:20240802T131644Z
UID:3106-1726164000-1726174800@commoditythursdays.com
SUMMARY:CommodityThursdays London - September
DESCRIPTION:🚢 CommodityThursdays are regular networking drinks in the shipping and commodity trading sector. They are open to all and free of charge (buy your own drinks). 🥂 Feel free to bring some friends and colleagues. We count on you and look forward to welcoming you there! 🤝🌟
URL:https://commoditythursdays.com/our-event/september-commoditythursdays-london-2/
LOCATION:Windmill Mayfair\, London\, United Kingdom
CATEGORIES:Commodity Thursdays
ATTACH;FMTTYPE=image/png:https://commoditythursdays.com/wp-content/uploads/2023/11/London-Sept.png
END:VEVENT
BEGIN:VEVENT
DTSTART;TZID=UTC:20240815T190000
DTEND;TZID=UTC:20240815T220000
DTSTAMP:20260424T174942
CREATED:20231122T120659Z
LAST-MODIFIED:20240704T095253Z
UID:3114-1723748400-1723759200@commoditythursdays.com
SUMMARY:CommodityThursdays Singapore - August
DESCRIPTION:🚢 CommodityThursdays are regular networking drinks in the shipping and commodities trading sector. They are open to all and free of charge\, with a first round of complimentary drinks waiting for you. 🥂 Feel free to bring some friends and colleagues. We count on you and look forward to welcoming you there! 🤝🌟
URL:https://commoditythursdays.com/our-event/may-commoditythursdays-singapore/
LOCATION:Lion Brewery Co
CATEGORIES:Commodity Thursdays
ATTACH;FMTTYPE=image/png:https://commoditythursdays.com/wp-content/uploads/2023/11/Singapore-Aug.png
END:VEVENT
BEGIN:VEVENT
DTSTART;TZID=UTC:20240718T180000
DTEND;TZID=UTC:20240718T210000
DTSTAMP:20260424T174942
CREATED:20240704T100851Z
LAST-MODIFIED:20240704T100851Z
UID:3270-1721325600-1721336400@commoditythursdays.com
SUMMARY:CommodityThursdays Geneva - July
DESCRIPTION:🚢 CommodityThursdays are regular networking drinks in the shipping and commodity trading sector. They are open to all and free of charge (buy your own drinks). 🥂 Feel free to bring some friends and colleagues. We count on you and look forward to welcoming you there! 🤝🌟 \nSPECIAL PUB QUIZ!
URL:https://commoditythursdays.com/our-event/commoditythursdays-geneva-july/
LOCATION:Harbor Pub\, Rue du Port 4\, Geneva\, 1204\, Switzerland
CATEGORIES:Commodity Thursdays
ATTACH;FMTTYPE=image/png:https://commoditythursdays.com/wp-content/uploads/2024/07/Geneva-Sept.png
END:VEVENT
BEGIN:VEVENT
DTSTART;TZID=UTC:20240620T180000
DTEND;TZID=UTC:20240620T220000
DTSTAMP:20260424T174942
CREATED:20240513T145840Z
LAST-MODIFIED:20240513T145840Z
UID:3220-1718906400-1718920800@commoditythursdays.com
SUMMARY:CommodityThursdays+ - A day in the life of a Trader
DESCRIPTION:We are excited to launch CommodityThursdays Plus! 🎉 Alongside our regular networking drinks\, we are introducing an engaging discussion with industry insiders. For our inaugural evening ‘A day in the life of a Trader’\, we will have an interactive conversation with oil and soft commodity traders\, followed by the usual networking drinks and a DJ. \nRegister your interest and save the date\, we will be sharing more information shortly on how to secure tickets.
URL:https://commoditythursdays.com/our-event/commoditythursdays-a-day-in-the-life-of-a-trader/
LOCATION:Les Halles de L’Ile\, Geneva\, Switzerland
CATEGORIES:Commodity Thursdays
ATTACH;FMTTYPE=image/png:https://commoditythursdays.com/wp-content/uploads/2024/05/Copie-de-Mid-Century-Cocktail-Party-Event-Flyer-1.png
END:VEVENT
BEGIN:VEVENT
DTSTART;TZID=UTC:20240606T180000
DTEND;TZID=UTC:20240606T210000
DTSTAMP:20260424T174942
CREATED:20240513T145122Z
LAST-MODIFIED:20240513T145122Z
UID:3216-1717696800-1717707600@commoditythursdays.com
SUMMARY:June - CommodityThursdays London
DESCRIPTION:🚢 CommodityThursdays are regular networking drinks in the shipping and commodities trading sector. They are open to all and free of charge (buy your own drinks). 🥂 Feel free to bring some friends and colleagues. We count on you and look forward to welcoming you there! 🤝🌟
URL:https://commoditythursdays.com/our-event/june-commoditythursdays-london-2/
LOCATION:Windmill Mayfair\, London\, United Kingdom
CATEGORIES:Commodity Thursdays
ATTACH;FMTTYPE=image/png:https://commoditythursdays.com/wp-content/uploads/2024/05/CommodityThursdays-VISUALS-9.png
END:VEVENT
BEGIN:VEVENT
DTSTART;TZID=UTC:20240606T180000
DTEND;TZID=UTC:20240606T210000
DTSTAMP:20260424T174942
CREATED:20240513T144940Z
LAST-MODIFIED:20240513T144940Z
UID:3213-1717696800-1717707600@commoditythursdays.com
SUMMARY:June - CommodityThursdays Rotterdam
DESCRIPTION:🚢 CommodityThursdays are regular networking drinks in the shipping and commodities trading sector. They are open to all and free of charge (buy your own drinks). 🥂 Feel free to bring some friends and colleagues. We count on you and look forward to welcoming you there! 🤝🌟
URL:https://commoditythursdays.com/our-event/june-commoditythursdays-rotterdam-2/
LOCATION:Bar Blink\, Rotterdam\, Netherlands
CATEGORIES:Commodity Thursdays
ATTACH;FMTTYPE=image/png:https://commoditythursdays.com/wp-content/uploads/2024/05/CommodityThursdays-VISUALS-7.png
END:VEVENT
BEGIN:VEVENT
DTSTART;TZID=UTC:20240606T180000
DTEND;TZID=UTC:20240606T210000
DTSTAMP:20260424T174942
CREATED:20240513T143951Z
LAST-MODIFIED:20240513T144034Z
UID:3204-1717696800-1717707600@commoditythursdays.com
SUMMARY:June - CommodityThursdays Dubai
DESCRIPTION:
URL:https://commoditythursdays.com/our-event/june-commoditythursdays-dubai/
LOCATION:SO/ Uptown Dubai\,  Uptown Tower\, United Arab Emirates
CATEGORIES:Commodity Thursdays
ATTACH;FMTTYPE=image/png:https://commoditythursdays.com/wp-content/uploads/2024/05/CommodityThursdays-VISUALS-6.png
END:VEVENT
BEGIN:VEVENT
DTSTART;TZID=UTC:20240523T180000
DTEND;TZID=UTC:20240523T210000
DTSTAMP:20260424T174942
CREATED:20240513T144720Z
LAST-MODIFIED:20240513T144720Z
UID:3208-1716487200-1716498000@commoditythursdays.com
SUMMARY:May - CommodityThursdays Singapore
DESCRIPTION:🚢 CommodityThursdays are regular networking drinks in the shipping and commodities trading sector. They are open to all and free of charge\, with a first round of complimentary drinks waiting for you. 🥂 Feel free to bring some friends and colleagues. We count on you and look forward to welcoming you there! 🤝🌟
URL:https://commoditythursdays.com/our-event/may-commoditythursdays-singapore-2/
LOCATION:Thirty Six Brewlab\, 36 Club Street\, Outram\, 069469\, Singapore
CATEGORIES:Commodity Thursdays
ATTACH;FMTTYPE=image/png:https://commoditythursdays.com/wp-content/uploads/2024/05/CommodityThursdays-VISUALS-8.png
END:VEVENT
BEGIN:VEVENT
DTSTART;TZID=UTC:20240523T180000
DTEND;TZID=UTC:20240523T210000
DTSTAMP:20260424T174942
CREATED:20240223T090714Z
LAST-MODIFIED:20240227T133434Z
UID:3183-1716487200-1716498000@commoditythursdays.com
SUMMARY:May - CommodityThursdays Paris
DESCRIPTION:
URL:https://commoditythursdays.com/our-event/may-commoditythursdays-paris/
CATEGORIES:Commodity Thursdays
ATTACH;FMTTYPE=image/png:https://commoditythursdays.com/wp-content/uploads/2024/02/CommodityThursdays-VISUALS-3.png
END:VEVENT
BEGIN:VEVENT
DTSTART;TZID=America/New_York:20240509T180000
DTEND;TZID=America/New_York:20240509T220000
DTSTAMP:20260424T174942
CREATED:20240212T154019Z
LAST-MODIFIED:20240227T133646Z
UID:3177-1715277600-1715292000@commoditythursdays.com
SUMMARY:May - CommodityThursdays Istanbul
DESCRIPTION:
URL:https://commoditythursdays.com/our-event/march-commoditythursdays-istanbul/
CATEGORIES:Commodity Thursdays
ATTACH;FMTTYPE=image/png:https://commoditythursdays.com/wp-content/uploads/2024/02/CommodityThursdays-VISUALS-4.png
END:VEVENT
BEGIN:VEVENT
DTSTART;TZID=UTC:20240425T180000
DTEND;TZID=UTC:20240425T210000
DTSTAMP:20260424T174942
CREATED:20231122T115709Z
LAST-MODIFIED:20231124T093156Z
UID:3102-1714068000-1714078800@commoditythursdays.com
SUMMARY:April - CommodityThursdays London
DESCRIPTION:
URL:https://commoditythursdays.com/our-event/april-commoditythursdays-london/
CATEGORIES:Commodity Thursdays
ATTACH;FMTTYPE=image/png:https://commoditythursdays.com/wp-content/uploads/2023/11/12.png
END:VEVENT
BEGIN:VEVENT
DTSTART;TZID=UTC:20240425T180000
DTEND;TZID=UTC:20240425T210000
DTSTAMP:20260424T174942
CREATED:20231122T114506Z
LAST-MODIFIED:20231124T092615Z
UID:3062-1714068000-1714078800@commoditythursdays.com
SUMMARY:April - CommodityThursdays Geneva
DESCRIPTION:
URL:https://commoditythursdays.com/our-event/april-commoditythursdays-geneva/
LOCATION:Harbor Pub\, Rue du Port 4\, Geneva\, 1204\, Switzerland
CATEGORIES:Commodity Thursdays
ATTACH;FMTTYPE=image/png:https://commoditythursdays.com/wp-content/uploads/2023/11/7.png
END:VEVENT
BEGIN:VEVENT
DTSTART;TZID=UTC:20240418T180000
DTEND;TZID=UTC:20240418T210000
DTSTAMP:20260424T174942
CREATED:20231122T121843Z
LAST-MODIFIED:20231124T093331Z
UID:3130-1713463200-1713474000@commoditythursdays.com
SUMMARY:April - CommodityThursdays Dubai
DESCRIPTION:
URL:https://commoditythursdays.com/our-event/april-commoditythursdays-dubai/
LOCATION:Taj Jumeirah Lakes Towers\, DMCC Plot No. 2-27\, Al Thanyah\, Jumeirah Lakes Towers PO Box 120810\, Dubai\, United Arab Emirates
CATEGORIES:Commodity Thursdays
ATTACH;FMTTYPE=image/png:https://commoditythursdays.com/wp-content/uploads/2023/11/18.png
END:VEVENT
BEGIN:VEVENT
DTSTART;TZID=UTC:20240321T180000
DTEND;TZID=UTC:20240321T210000
DTSTAMP:20260424T174942
CREATED:20231122T120445Z
LAST-MODIFIED:20231124T093036Z
UID:3110-1711044000-1711054800@commoditythursdays.com
SUMMARY:March - CommodityThursdays Singapore
DESCRIPTION:
URL:https://commoditythursdays.com/our-event/march-commoditythursdays-singapore/
LOCATION:Thirty Six Brewlab\, 36 Club Street\, Outram\, 069469\, Singapore
CATEGORIES:Commodity Thursdays
ATTACH;FMTTYPE=image/png:https://commoditythursdays.com/wp-content/uploads/2023/11/CommodityThursdays-SINGAPORE-OCT-5.png
END:VEVENT
BEGIN:VEVENT
DTSTART;TZID=UTC:20240314T180000
DTEND;TZID=UTC:20240314T210000
DTSTAMP:20260424T174942
CREATED:20231122T121228Z
LAST-MODIFIED:20240103T135946Z
UID:3122-1710439200-1710450000@commoditythursdays.com
SUMMARY:March - CommodityThursdays Rotterdam
DESCRIPTION:
URL:https://commoditythursdays.com/our-event/march-commoditythursdays-rotterdam/
LOCATION:Roddin Cafe Restaurant\, Rodin Cafe Restaurant\, Rotterdam\, Netherlands
CATEGORIES:Commodity Thursdays
ATTACH;FMTTYPE=image/png:https://commoditythursdays.com/wp-content/uploads/2023/11/CommodityThursdays-SINGAPORE-OCT-12.png
END:VEVENT
BEGIN:VEVENT
DTSTART;TZID=America/New_York:20240222T180000
DTEND;TZID=America/New_York:20240222T220000
DTSTAMP:20260424T174942
CREATED:20231222T113452Z
LAST-MODIFIED:20240115T105850Z
UID:3151-1708624800-1708639200@commoditythursdays.com
SUMMARY:February - CommodityThursdays Miami
DESCRIPTION:
URL:https://commoditythursdays.com/our-event/february-commoditythursdays-miami/
CATEGORIES:Commodity Thursdays
ATTACH;FMTTYPE=image/png:https://commoditythursdays.com/wp-content/uploads/2023/12/CommodityThursdays-SINGAPORE-OCT-11.png
END:VEVENT
BEGIN:VEVENT
DTSTART;TZID=UTC:20240208T180000
DTEND;TZID=UTC:20240208T210000
DTSTAMP:20260424T174942
CREATED:20231124T093804Z
LAST-MODIFIED:20231127T144016Z
UID:3138-1707415200-1707426000@commoditythursdays.com
SUMMARY:February - CommodityThursdays Paris
DESCRIPTION:
URL:https://commoditythursdays.com/our-event/february-commoditythursdays-paris/
CATEGORIES:Commodity Thursdays
ATTACH;FMTTYPE=image/png:https://commoditythursdays.com/wp-content/uploads/2023/11/CommodityThursdays-SINGAPORE-OCT-6.png
END:VEVENT
BEGIN:VEVENT
DTSTART;TZID=UTC:20240208T180000
DTEND;TZID=UTC:20240208T210000
DTSTAMP:20260424T174942
CREATED:20231122T084004Z
LAST-MODIFIED:20231207T103504Z
UID:3058-1707415200-1707426000@commoditythursdays.com
SUMMARY:February - CommodityThursdays Geneva
DESCRIPTION:
URL:https://commoditythursdays.com/our-event/february-commoditythursdays-geneva/
LOCATION:Harbor Pub\, Rue du Port 4\, Geneva\, 1204\, Switzerland
CATEGORIES:Commodity Thursdays
ATTACH;FMTTYPE=image/png:https://commoditythursdays.com/wp-content/uploads/2023/11/CommodityThursdays-SINGAPORE-OCT-7.png
END:VEVENT
BEGIN:VEVENT
DTSTART;TZID=UTC:20240201T180000
DTEND;TZID=UTC:20240201T210000
DTSTAMP:20260424T174942
CREATED:20230927T095710Z
LAST-MODIFIED:20231124T093259Z
UID:2977-1706810400-1706821200@commoditythursdays.com
SUMMARY:February - CommodityThursdays Dubai
DESCRIPTION:
URL:https://commoditythursdays.com/our-event/october-commoditythursdays-dubai/
CATEGORIES:Commodity Thursdays
ATTACH;FMTTYPE=image/png:https://commoditythursdays.com/wp-content/uploads/2023/09/4.png
END:VEVENT
BEGIN:VEVENT
DTSTART;TZID=UTC:20240201T180000
DTEND;TZID=UTC:20240201T210000
DTSTAMP:20260424T174942
CREATED:20230618T213519Z
LAST-MODIFIED:20231124T093122Z
UID:2701-1706810400-1706821200@commoditythursdays.com
SUMMARY:February - CommodityThursdays London
DESCRIPTION:
URL:https://commoditythursdays.com/our-event/november-commoditythursdays-london/
CATEGORIES:Commodity Thursdays
ATTACH;FMTTYPE=image/png:https://commoditythursdays.com/wp-content/uploads/2023/06/2.png
END:VEVENT
BEGIN:VEVENT
DTSTART;TZID=UTC:20240125T180000
DTEND;TZID=UTC:20240125T210000
DTSTAMP:20260424T174942
CREATED:20230619T081801Z
LAST-MODIFIED:20240109T084327Z
UID:2756-1706205600-1706216400@commoditythursdays.com
SUMMARY:January - CommodityThursdays Singapore
DESCRIPTION:
URL:https://commoditythursdays.com/our-event/november-singapore/
LOCATION:Lion Brewery Co
CATEGORIES:Commodity Thursdays
ATTACH;FMTTYPE=image/png:https://commoditythursdays.com/wp-content/uploads/2023/06/CommodityThursdays-SINGAPORE-OCT-7.png
END:VEVENT
BEGIN:VEVENT
DTSTART;VALUE=DATE:20231130
DTEND;VALUE=DATE:20231201
DTSTAMP:20260424T174942
CREATED:20230927T100100Z
LAST-MODIFIED:20231009T151702Z
UID:2980-1701302400-1701388799@commoditythursdays.com
SUMMARY:November - CommodityThursdays Rotterdam
DESCRIPTION:
URL:https://commoditythursdays.com/our-event/november-commoditythursdays-rotterdam/
LOCATION:Roddin Cafe Restaurant\, Rodin Cafe Restaurant\, Rotterdam\, Netherlands
CATEGORIES:Commodity Thursdays
ATTACH;FMTTYPE=image/png:https://commoditythursdays.com/wp-content/uploads/2023/09/Rotterdam-3.png
END:VEVENT
BEGIN:VEVENT
DTSTART;VALUE=DATE:20231130
DTEND;VALUE=DATE:20231201
DTSTAMP:20260424T174942
CREATED:20230619T072539Z
LAST-MODIFIED:20231009T152244Z
UID:2732-1701302400-1701388799@commoditythursdays.com
SUMMARY:November - CommodityThursdays Geneva
DESCRIPTION:
URL:https://commoditythursdays.com/our-event/november-commoditythursdays-geneva/
CATEGORIES:Commodity Thursdays
ATTACH;FMTTYPE=image/png:https://commoditythursdays.com/wp-content/uploads/2023/06/Copy-of-CommodityThursdays-ZUG-SEP-4.png
END:VEVENT
BEGIN:VEVENT
DTSTART;VALUE=DATE:20231026
DTEND;VALUE=DATE:20231027
DTSTAMP:20260424T174942
CREATED:20230927T094212Z
LAST-MODIFIED:20230927T095433Z
UID:2968-1698278400-1698364799@commoditythursdays.com
SUMMARY:October - CommodityThursdays Rotterdam
DESCRIPTION:
URL:https://commoditythursdays.com/our-event/october-commoditythursdays-rotterdam/
LOCATION:Roddin Cafe Restaurant\, Rodin Cafe Restaurant\, Rotterdam\, Netherlands
CATEGORIES:Commodity Thursdays
ATTACH;FMTTYPE=image/png:https://commoditythursdays.com/wp-content/uploads/2023/09/Copy-of-CommodityThursdays-ZUG-SEP-1.png
END:VEVENT
BEGIN:VEVENT
DTSTART;VALUE=DATE:20231012
DTEND;VALUE=DATE:20231013
DTSTAMP:20260424T174942
CREATED:20230427T093100Z
LAST-MODIFIED:20230927T093358Z
UID:2264-1697068800-1697155199@commoditythursdays.com
SUMMARY:October - CommodityThursdays Singapore
DESCRIPTION:
URL:https://commoditythursdays.com/our-event/october-commoditythursdays-singapore/
LOCATION:Roddin Cafe Restaurant\, Rodin Cafe Restaurant\, Rotterdam\, Netherlands
CATEGORIES:Commodity Thursdays
ATTACH;FMTTYPE=image/png:https://commoditythursdays.com/wp-content/uploads/2023/04/CommodityThursdays-SINGAPORE-OCT-1-1.png
END:VEVENT
BEGIN:VEVENT
DTSTART;VALUE=DATE:20231005
DTEND;VALUE=DATE:20231006
DTSTAMP:20260424T174942
CREATED:20230427T092930Z
LAST-MODIFIED:20230515T205133Z
UID:2260-1696464000-1696550399@commoditythursdays.com
SUMMARY:October - CommodityThursdays Geneva
DESCRIPTION:
URL:https://commoditythursdays.com/our-event/october-commoditythursdays-geneva/
LOCATION:Arthur’s Rivegauche\, Arthur's Rivegauche\, Arthur's Rivegauche\, United States
CATEGORIES:Commodity Thursdays
ATTACH;FMTTYPE=image/png:https://commoditythursdays.com/wp-content/uploads/2023/04/Copy-of-CommodityThursdays-geneva-Oct-.png
END:VEVENT
BEGIN:VEVENT
DTSTART;VALUE=DATE:20230921
DTEND;VALUE=DATE:20230922
DTSTAMP:20260424T174942
CREATED:20230427T092841Z
LAST-MODIFIED:20230515T205033Z
UID:2257-1695254400-1695340799@commoditythursdays.com
SUMMARY:September - CommodityThursdays Singapore
DESCRIPTION:
URL:https://commoditythursdays.com/our-event/september-commoditythursdays-singapore/
LOCATION:Muddy Murph\, Muddy Murph\, United States
CATEGORIES:Commodity Thursdays
ATTACH;FMTTYPE=image/png:https://commoditythursdays.com/wp-content/uploads/2023/04/CommodityThursdays-Singapore-SEP-.png
END:VEVENT
BEGIN:VEVENT
DTSTART;VALUE=DATE:20230921
DTEND;VALUE=DATE:20230922
DTSTAMP:20260424T174942
CREATED:20230427T092701Z
LAST-MODIFIED:20230901T162537Z
UID:2253-1695254400-1695340799@commoditythursdays.com
SUMMARY:September - CommodityThursdays Zug
DESCRIPTION:
URL:https://commoditythursdays.com/our-event/september-commoditythursdays-zug/
LOCATION:Bughouse Bar\, Bughouse Bar\, London\, United States
CATEGORIES:Commodity Thursdays
ATTACH;FMTTYPE=image/png:https://commoditythursdays.com/wp-content/uploads/2023/04/CommodityThursdays-ZUG-SEP-4.png
END:VEVENT
BEGIN:VEVENT
DTSTART;VALUE=DATE:20230914
DTEND;VALUE=DATE:20230915
DTSTAMP:20260424T174942
CREATED:20230427T092744Z
LAST-MODIFIED:20230619T064430Z
UID:2255-1694649600-1694735999@commoditythursdays.com
SUMMARY:September - CommodityThursdays London
DESCRIPTION:
URL:https://commoditythursdays.com/our-event/september-commoditythursdays-london/
LOCATION:Garrick Arms\, Garrick Arms\, Garrick Arms\, United States
CATEGORIES:Commodity Thursdays
ATTACH;FMTTYPE=image/png:https://commoditythursdays.com/wp-content/uploads/2023/06/CommodityThursdays-LONDON-sept.png
END:VEVENT
BEGIN:VEVENT
DTSTART;VALUE=DATE:20230914
DTEND;VALUE=DATE:20230915
DTSTAMP:20260424T174942
CREATED:20230427T092611Z
LAST-MODIFIED:20230619T065200Z
UID:2251-1694649600-1694735999@commoditythursdays.com
SUMMARY:September - CommodityThursdays Geneva
DESCRIPTION:
URL:https://commoditythursdays.com/our-event/september-commoditythursdays-geneva/
LOCATION:Arthur’s Rivegauche\, Arthur's Rivegauche\, Arthur's Rivegauche\, United States
CATEGORIES:Commodity Thursdays
ATTACH;FMTTYPE=image/png:https://commoditythursdays.com/wp-content/uploads/2023/06/CommodityThursdays-GENEVA-SEP-.png
END:VEVENT
END:VCALENDAR