BEGIN:VCALENDAR
VERSION:2.0
PRODID:-//CommodityThursdays - ECPv6.10.2//NONSGML v1.0//EN
CALSCALE:GREGORIAN
METHOD:PUBLISH
X-WR-CALNAME:CommodityThursdays
X-ORIGINAL-URL:https://commoditythursdays.com
X-WR-CALDESC:Events for CommodityThursdays
REFRESH-INTERVAL;VALUE=DURATION:PT1H
X-Robots-Tag:noindex
X-PUBLISHED-TTL:PT1H
BEGIN:VTIMEZONE
TZID:UTC
BEGIN:STANDARD
TZOFFSETFROM:+0000
TZOFFSETTO:+0000
TZNAME:UTC
DTSTART:20260101T000000
END:STANDARD
END:VTIMEZONE
BEGIN:VEVENT
DTSTART;VALUE=DATE:20260210
DTEND;VALUE=DATE:20260212
DTSTAMP:20260424T160929
CREATED:20251229T134859Z
LAST-MODIFIED:20251229T201805Z
UID:12234-1770681600-1770854399@commoditythursdays.com
SUMMARY:GTR MENA 2026
DESCRIPTION:GTR MENA 2026 will return to Dubai on February 10-11\, following the record-breaking success of the 2025 edition\, which welcomed over 1\,300 delegates. As the region’s flagship event for trade\, export\, commodity\, and supply chain finance\, this two-day forum will bring together industry leaders\, financiers\, and innovators from across MENA and beyond. \nWith 90+ expert speakers\, 45+ exhibitors\, and 5+ hours of networking\, attendees can expect critical insights on key themes like economic diversification\, digital trade\, and sustainable finance. Whether you’re looking to build relationships\, gain market intelligence\, or explore new business avenues\, GTR MENA 2026 offers a unique opportunity to shape the future of trade in the region. \n\n 
URL:https://commoditythursdays.com/our-event/gtr-mena-2026/
LOCATION:Jumeirah Emirates Tower\, Dubai\, Dubai\, United Arab Emirates
CATEGORIES:Our Partners Events
ATTACH;FMTTYPE=image/jpeg:https://commoditythursdays.com/wp-content/uploads/2025/12/1754989292066.jpeg
END:VEVENT
END:VCALENDAR