BEGIN:VCALENDAR
VERSION:2.0
PRODID:-//CommodityThursdays - ECPv6.10.2//NONSGML v1.0//EN
CALSCALE:GREGORIAN
METHOD:PUBLISH
X-WR-CALNAME:CommodityThursdays
X-ORIGINAL-URL:https://commoditythursdays.com
X-WR-CALDESC:Events for CommodityThursdays
REFRESH-INTERVAL;VALUE=DURATION:PT1H
X-Robots-Tag:noindex
X-PUBLISHED-TTL:PT1H
BEGIN:VTIMEZONE
TZID:UTC
BEGIN:STANDARD
TZOFFSETFROM:+0000
TZOFFSETTO:+0000
TZNAME:UTC
DTSTART:20260101T000000
END:STANDARD
END:VTIMEZONE
BEGIN:VEVENT
DTSTART;VALUE=DATE:20260506
DTEND;VALUE=DATE:20260508
DTSTAMP:20260424T120117
CREATED:20260417T092139Z
LAST-MODIFIED:20260417T092732Z
UID:12567-1778025600-1778198399@commoditythursdays.com
SUMMARY:Commodity Trading Week Europe
DESCRIPTION:Commodity Trading Week Europe returns to Stamford Bridge Stadium\, bringing together 1000+ senior leaders across trading\, risk\, analytics\, technology\, operations\, and compliance. \nDesigned as Europe’s key cross-commodity forum\, the two-day programme explores market structure\, digitalisation\, risk\, and trade finance through a mix of presentations\, debates\, workshops\, and roundtables — all focused on practical\, actionable insight. \nPosition yourself at the centre of Europe’s commodity trading ecosystem\, connect with leading market participants\, and gain a clear view of the trends shaping the industry. \n📅 6–7 May 2026📍 Stamford Bridge Stadium\, London \nExclusive offer for Commodity Thursdays members: \nFree passes are available for eligible Commodity Traders\, Producers\, Consumers\, Utilities\, Shipowners\, Asset Managers\, Institutional Investors\, Governments\, Regulators\, and Associations ‘VIP’ ticket pathway. \nAdditional discounted passes are available on a limited\, first-come-first-served basis for service providers. \nTo claim\, email alina@commoditiespeople.com with “Commodity Trading Week Europe Offer – Commodity Thursdays”. \nWe look forward to welcoming you to London!
URL:https://commoditythursdays.com/our-event/commodity-trading-week-europe/
LOCATION:Stamford Bridge Stadium\, London\, London\, United Kingdom
CATEGORIES:Our Partners Events
ATTACH;FMTTYPE=image/png:https://commoditythursdays.com/wp-content/uploads/2026/04/CTWEU-26-LI-banner-e1776417935391.png
END:VEVENT
END:VCALENDAR